BEGIN:VCALENDAR
VERSION:2.0
BEGIN:VEVENT
DTSTAMP:20210511T173000
STATUS:CONFIRMED
UID:1560363617addtocalendar
DTSTART:20210511T173000
DTEND:20210511T183000
SUMMARY:International Correspondent&#039;s Committee Meeting
DESCRIPTION:The International Correspondents Committee
LOCATION:The National Press Club |
BEGIN:VALARM
TRIGGER:-PT15M
ACTION:DISPLAY
END:VALARM
TRANSP:OPAQUE
END:VEVENT
END:VCALENDAR